BEGIN:VCALENDAR
VERSION:2.0
PRODID:DPCALENDAR
CALSCALE:GREGORIAN
X-WR-TIMEZONE:UTC
BEGIN:VEVENT
DTSTART;TZID=UTC:20230228T203000
DTEND;TZID=UTC:20230228T214500
RRULE:FREQ=WEEKLY;INTERVAL=1;UNTIL=20230509T235900Z
UID:D4331F06-9CD1-4DF3-A2E6-A2947CE66B0A
SUMMARY:IK Rex
CREATED:20230214T210156Z
DTSTAMP:20230214T210156Z
URL:https://www.nufatierp.se/kalender2/ik-rex-6
X-ACCESS:1
X-HITS:40
X-COLOR:92d050
X-SHOW-END-TIME:1
END:VEVENT
BEGIN:VEVENT
DTSTART;TZID=UTC:20230326T140000
DTEND;TZID=UTC:20230326T160000
UID:C03F5A5B-0C99-47A2-9E84-DFC87563055C
SUMMARY:IK Rex
CREATED:20230213T210222Z
DTSTAMP:20230213T210222Z
URL:https://www.nufatierp.se/kalender2/ik-rex-2
X-ACCESS:1
X-HITS:18
X-COLOR:92d050
X-SHOW-END-TIME:1
END:VEVENT
BEGIN:VEVENT
DTSTART;TZID=UTC:20230409T160000
DTEND;TZID=UTC:20230409T180000
UID:1CE987BE-B811-462F-ACD4-709DD2C145B3
SUMMARY:IK Rex
CREATED:20230213T210936Z
DTSTAMP:20230213T210936Z
URL:https://www.nufatierp.se/kalender2/ik-rex-3
X-ACCESS:1
X-HITS:18
X-COLOR:92d050
X-SHOW-END-TIME:1
END:VEVENT
BEGIN:VEVENT
DTSTART;TZID=UTC:20230423T140000
DTEND;TZID=UTC:20230423T160000
UID:62D6B3CF-5DC8-40C3-B086-9E9C9738E234
SUMMARY:IK Rex
CREATED:20230213T212122Z
DTSTAMP:20230213T212122Z
URL:https://www.nufatierp.se/kalender2/ik-rex-4
X-ACCESS:1
X-HITS:15
X-COLOR:92d050
X-SHOW-END-TIME:1
END:VEVENT
END:VCALENDAR