BEGIN:VCALENDAR
VERSION:2.0
PRODID:DPCALENDAR
CALSCALE:GREGORIAN
X-WR-TIMEZONE:UTC
BEGIN:VEVENT
DTSTART;TZID=UTC:20230228T180000
DTEND;TZID=UTC:20230228T191500
RRULE:FREQ=WEEKLY;INTERVAL=1;UNTIL=20230509T235900Z
UID:A2626CA5-2E02-4385-849D-9A7EC0E4272D
SUMMARY:Töff
CREATED:20230214T204010Z
DTSTAMP:20230214T204010Z
URL:https://www.nufatierp.se/kalender2/toeff-8
X-ACCESS:1
X-HITS:36
X-COLOR:ffff00
X-SHOW-END-TIME:1
END:VEVENT
BEGIN:VEVENT
DTSTART;TZID=UTC:20230301T203000
DTEND;TZID=UTC:20230301T214500
RRULE:FREQ=WEEKLY;INTERVAL=1;UNTIL=20230510T235900Z
EXDATE:20230503T203000Z,20230510T203000Z
UID:603D4B51-5B88-4B80-A0D2-CEB07A749AA9
SUMMARY:Töff
CREATED:20230214T210519Z
DTSTAMP:20230214T210519Z
URL:https://www.nufatierp.se/kalender2/toeff-10
X-ACCESS:1
X-HITS:25
X-COLOR:ffff00
X-SHOW-END-TIME:1
END:VEVENT
BEGIN:VEVENT
DTSTART;TZID=UTC:20230303T180000
DTEND;TZID=UTC:20230303T191500
RRULE:FREQ=WEEKLY;INTERVAL=1;UNTIL=20230512T235900Z
EXDATE:20230407T180000Z,20230512T180000Z
UID:53FE4DFA-8FB2-47F2-A2AF-170E3D515659
SUMMARY:Töff
CREATED:20230214T204929Z
DTSTAMP:20230214T204929Z
URL:https://www.nufatierp.se/kalender2/toeff-9
X-ACCESS:1
X-HITS:28
X-COLOR:ffff00
X-SHOW-END-TIME:1
END:VEVENT
BEGIN:VEVENT
DTSTART;TZID=UTC:20230304T090000
DTEND;TZID=UTC:20230304T100000
RRULE:FREQ=WEEKLY;INTERVAL=1;UNTIL=20230506T235900Z
EXDATE:20230311T090000Z,20230325T090000Z,20230429T090000Z,20230506T090000Z
UID:24DE98F5-67A8-4F76-B4BF-66153930333C
SUMMARY:Töff
CREATED:20230214T203730Z
DTSTAMP:20230214T203730Z
URL:https://www.nufatierp.se/kalender2/toeff-7
X-ACCESS:1
X-HITS:26
X-COLOR:ffff00
X-SHOW-END-TIME:1
END:VEVENT
BEGIN:VEVENT
DTSTART;TZID=UTC:20230305T140000
DTEND;TZID=UTC:20230305T160000
UID:FB4D8AD5-FFBD-45FB-B14B-AFBA8423EC99
SUMMARY:TÖFF
CREATED:20230213T204431Z
DTSTAMP:20230213T204431Z
URL:https://www.nufatierp.se/kalender2/toeff-2
X-ACCESS:1
X-HITS:9
X-COLOR:ffff00
X-SHOW-END-TIME:1
END:VEVENT
BEGIN:VEVENT
DTSTART;TZID=UTC:20230319T160000
DTEND;TZID=UTC:20230319T180000
UID:4F4ED2B7-AD08-4EC7-986E-3FDD9619F982
SUMMARY:Töff
CREATED:20230213T205725Z
DTSTAMP:20230213T205725Z
URL:https://www.nufatierp.se/kalender2/toeff-3
X-ACCESS:1
X-HITS:10
X-COLOR:ffff00
X-SHOW-END-TIME:1
END:VEVENT
BEGIN:VEVENT
DTSTART;TZID=UTC:20230321T160000
DTEND;TZID=UTC:20230321T170000
UID:684B461C-33D3-4153-8305-2C00C6B993C4
SUMMARY:TÖFF
CREATED:20230320T092233Z
DTSTAMP:20230320T092233Z
URL:https://www.nufatierp.se/kalender2/toeff-13
X-ACCESS:1
X-HITS:18
X-COLOR:ffff00
X-SHOW-END-TIME:1
END:VEVENT
BEGIN:VEVENT
DTSTART;TZID=UTC:20230328T160000
DTEND;TZID=UTC:20230328T170000
UID:4C673E1E-93CA-48C8-A754-DBC173E27DEF
SUMMARY:TÖFF
CREATED:20230320T092855Z
DTSTAMP:20230320T092855Z
URL:https://www.nufatierp.se/kalender2/toeff-14
X-ACCESS:1
X-HITS:20
X-COLOR:ffff00
X-SHOW-END-TIME:1
END:VEVENT
BEGIN:VEVENT
DTSTART;TZID=UTC:20230401T140000
DTEND;TZID=UTC:20230401T160000
UID:29682E9F-A73D-4919-BA66-170B26AD3690
SUMMARY:Töff Dam
CREATED:20230314T100608Z
DTSTAMP:20230314T100608Z
URL:https://www.nufatierp.se/kalender2/toeff-dam-3
X-ACCESS:1
X-HITS:14
X-COLOR:ffff00
X-SHOW-END-TIME:1
END:VEVENT
BEGIN:VEVENT
DTSTART;TZID=UTC:20230404T160000
DTEND;TZID=UTC:20230404T170000
UID:D226F056-5167-4F63-BBA3-39EA8E3C4595
SUMMARY:TÖFF
CREATED:20230320T092934Z
DTSTAMP:20230320T092934Z
URL:https://www.nufatierp.se/kalender2/toeff-15
X-ACCESS:1
X-HITS:14
X-COLOR:ffff00
X-SHOW-END-TIME:1
END:VEVENT
BEGIN:VEVENT
DTSTART;TZID=UTC:20230411T160000
DTEND;TZID=UTC:20230411T170000
UID:A3C4AB76-78C1-4465-817D-FF67A6F91A55
SUMMARY:TÖFF
CREATED:20230320T093005Z
DTSTAMP:20230320T093005Z
URL:https://www.nufatierp.se/kalender2/toeff-16
X-ACCESS:1
X-HITS:9
X-COLOR:ffff00
X-SHOW-END-TIME:1
END:VEVENT
BEGIN:VEVENT
DTSTART;TZID=UTC:20230416T100000
DTEND;TZID=UTC:20230416T120000
UID:913DBBDF-AD68-4BEE-AC8E-82210DA94E1F
SUMMARY:Töff
CREATED:20230213T211322Z
DTSTAMP:20230213T211322Z
URL:https://www.nufatierp.se/kalender2/toeff-4
X-ACCESS:1
X-HITS:10
X-COLOR:ffff00
X-SHOW-END-TIME:1
END:VEVENT
BEGIN:VEVENT
DTSTART;TZID=UTC:20230418T160000
DTEND;TZID=UTC:20230418T170000
UID:F94424DA-18CC-4577-B410-38112594E3F6
SUMMARY:TÖFF
CREATED:20230320T093052Z
DTSTAMP:20230320T093052Z
URL:https://www.nufatierp.se/kalender2/toeff-17
X-ACCESS:1
X-HITS:8
X-COLOR:ffff00
X-SHOW-END-TIME:1
END:VEVENT
BEGIN:VEVENT
DTSTART;TZID=UTC:20230423T160000
DTEND;TZID=UTC:20230423T180000
UID:B0747195-3F38-45C5-8902-12631C90C82C
SUMMARY:TÖFF dam
CREATED:20230228T083852Z
DTSTAMP:20230228T083852Z
URL:https://www.nufatierp.se/kalender2/toeff-dam
X-ACCESS:1
X-HITS:14
X-COLOR:ffff00
X-SHOW-END-TIME:1
END:VEVENT
BEGIN:VEVENT
DTSTART;TZID=UTC:20230425T160000
DTEND;TZID=UTC:20230425T170000
UID:C5A690CA-3835-4842-A6BB-461AE83B10F1
SUMMARY:TÖFF
CREATED:20230320T093119Z
DTSTAMP:20230320T093119Z
URL:https://www.nufatierp.se/kalender2/toeff-18
X-ACCESS:1
X-HITS:7
X-COLOR:ffff00
X-SHOW-END-TIME:1
END:VEVENT
BEGIN:VEVENT
DTSTART;TZID=UTC:20230428T191500
DTEND;TZID=UTC:20230428T210000
UID:FE0E319F-AB47-47DE-ADC9-3009E3A759D8
SUMMARY:Töff
CREATED:20230316T191357Z
DTSTAMP:20230316T191357Z
URL:https://www.nufatierp.se/kalender2/toeff-11
X-ACCESS:1
X-HITS:8
X-COLOR:ffff00
X-SHOW-END-TIME:1
END:VEVENT
BEGIN:VEVENT
DTSTART;TZID=UTC:20230430T100000
DTEND;TZID=UTC:20230430T120000
UID:0E01325A-2F89-403C-903E-BB7BDFD9081C
SUMMARY:Töff
CREATED:20230213T212657Z
DTSTAMP:20230213T212657Z
URL:https://www.nufatierp.se/kalender2/toeff-5
X-ACCESS:1
X-HITS:8
X-COLOR:ffff00
X-SHOW-END-TIME:1
END:VEVENT
BEGIN:VEVENT
DTSTART;TZID=UTC:20240305T203000
DTEND;TZID=UTC:20240305T214500
UID:B885D041-DFA2-4F0E-9191-52697C854588
SUMMARY:Töff
CREATED:20240208T191139Z
DTSTAMP:20240208T191139Z
URL:https://www.nufatierp.se/kalender2/toeff-21
LAST-MODIFIED:20240208T191226Z
SEQUENCE:47
X-ACCESS:1
X-HITS:7
X-COLOR:ffff00
X-SHOW-END-TIME:1
END:VEVENT
BEGIN:VEVENT
DTSTART;TZID=UTC:20240306T203000
DTEND;TZID=UTC:20240306T214500
UID:19E02611-9FFD-4992-B2DA-20E453686E59
SUMMARY:Töff
CREATED:20240208T191909Z
DTSTAMP:20240208T191909Z
URL:https://www.nufatierp.se/kalender2/toeff-22
X-ACCESS:1
X-HITS:5
X-COLOR:ffff00
X-SHOW-END-TIME:1
END:VEVENT
BEGIN:VEVENT
DTSTART;TZID=UTC:20240310T103000
DTEND;TZID=UTC:20240310T120000
RRULE:FREQ=WEEKLY;INTERVAL=1;UNTIL=20240331T235900Z
UID:BB9680B7-205E-4368-AF53-BDB99DCDA9E9
SUMMARY:Töff U
CREATED:20240304T051244Z
DTSTAMP:20240304T051244Z
URL:https://www.nufatierp.se/kalender2/toeff-u
X-ACCESS:1
X-HITS:24
X-COLOR:ffff00
X-SHOW-END-TIME:1
END:VEVENT
BEGIN:VEVENT
DTSTART;TZID=UTC:20240312T203000
DTEND;TZID=UTC:20240312T214500
UID:60F265A4-80AE-4040-9C21-04E314192A11
SUMMARY:Töff 
CREATED:20240226T055713Z
DTSTAMP:20240226T055713Z
URL:https://www.nufatierp.se/kalender2/oeff-herr-13
LAST-MODIFIED:20240226T060147Z
SEQUENCE:274
X-ACCESS:1
X-HITS:4
X-COLOR:ffff00
X-SHOW-END-TIME:1
END:VEVENT
BEGIN:VEVENT
DTSTART;TZID=UTC:20240313T203000
DTEND;TZID=UTC:20240313T214500
UID:00513138-F69A-45E8-BDE3-FECFC71D21E1
SUMMARY:Töff 
CREATED:20240226T060657Z
DTSTAMP:20240226T060657Z
URL:https://www.nufatierp.se/kalender2/toeff-24
X-ACCESS:1
X-HITS:5
X-COLOR:ffff00
X-SHOW-END-TIME:1
END:VEVENT
BEGIN:VEVENT
DTSTART;TZID=UTC:20240319T203000
DTEND;TZID=UTC:20240319T214500
RRULE:FREQ=WEEKLY;INTERVAL=1;UNTIL=20240409T235900Z
UID:17F24917-65BF-4DCC-AFD1-0F1DB413BF1A
SUMMARY:TÖFF
CREATED:20240226T063744Z
DTSTAMP:20240226T063744Z
URL:https://www.nufatierp.se/kalender2/toeff-25
X-ACCESS:1
X-HITS:25
X-COLOR:ffff00
X-SHOW-END-TIME:1
END:VEVENT
BEGIN:VEVENT
DTSTART;TZID=UTC:20240320T203000
DTEND;TZID=UTC:20240320T214500
RRULE:FREQ=WEEKLY;INTERVAL=1;UNTIL=20240410T235900Z
EXDATE:20240410T203000Z
UID:4488704F-E018-4118-8C82-AADA1E102527
SUMMARY:TÖFF
CREATED:20240226T064333Z
DTSTAMP:20240226T064333Z
URL:https://www.nufatierp.se/kalender2/toeff-26
X-ACCESS:1
X-HITS:23
X-COLOR:ffff00
X-SHOW-END-TIME:1
END:VEVENT
BEGIN:VEVENT
DTSTART;TZID=UTC:20240416T203000
DTEND;TZID=UTC:20240416T214500
RRULE:FREQ=WEEKLY;INTERVAL=1;UNTIL=20240514T235900Z
UID:FBAD173A-2C0D-4843-AAA5-038DF1FED07D
SUMMARY:Töff
CREATED:20240226T071238Z
DTSTAMP:20240226T071238Z
URL:https://www.nufatierp.se/kalender2/toeff-27
X-ACCESS:1
X-HITS:24
X-COLOR:ffff00
X-SHOW-END-TIME:1
END:VEVENT
BEGIN:VEVENT
DTSTART;TZID=UTC:20240428T090000
DTEND;TZID=UTC:20240428T103000
UID:31DBCB67-0DB9-4C8A-927D-BE56906020BC
SUMMARY:Töff
CREATED:20240307T075317Z
DTSTAMP:20240307T075317Z
URL:https://www.nufatierp.se/kalender2/tif-u-17
LAST-MODIFIED:20240313T173011Z
SEQUENCE:553014
X-ACCESS:1
X-HITS:8
X-COLOR:ffff00
X-SHOW-END-TIME:1
END:VEVENT
BEGIN:VEVENT
DTSTART;TZID=UTC:20240428T103000
DTEND;TZID=UTC:20240428T120000
RRULE:FREQ=WEEKLY;INTERVAL=1;UNTIL=20240512T235900Z
EXDATE:20240512T103000Z
UID:2002E1D2-4DD0-4D1E-9927-E875D4013A3E
SUMMARY:Töff U
CREATED:20240304T051408Z
DTSTAMP:20240304T051408Z
URL:https://www.nufatierp.se/kalender2/toeff-u-2
X-ACCESS:1
X-HITS:26
X-COLOR:ffff00
X-SHOW-END-TIME:1
END:VEVENT
BEGIN:VEVENT
DTSTART;TZID=UTC:20240505T100000
DTEND;TZID=UTC:20240505T120000
UID:2002E1D2-4DD0-4D1E-9927-E875D4013A3E
RECURRENCE-ID:20240505T103000Z
SUMMARY:Töff U
CREATED:20240304T051408Z
DTSTAMP:20240304T051408Z
URL:https://www.nufatierp.se/kalender2/toeff-u-2-1714905000
LAST-MODIFIED:20240421T163701Z
SEQUENCE:4188173
X-ACCESS:1
X-HITS:4
X-COLOR:ffff00
X-SHOW-END-TIME:1
END:VEVENT
BEGIN:VEVENT
DTSTART;TZID=UTC:20250305T203000
DTEND;TZID=UTC:20250305T214500
UID:ED51E825-01E8-4EB8-8CA5-4406E5846BC3
SUMMARY:TÖFF
CREATED:20250115T065344Z
DTSTAMP:20250115T065344Z
URL:https://www.nufatierp.se/kalender2/toeff-29
LAST-MODIFIED:20250115T065344Z
SEQUENCE:0
X-ACCESS:1
X-HITS:2
X-COLOR:ffff00
X-SHOW-END-TIME:1
END:VEVENT
BEGIN:VEVENT
DTSTART;TZID=UTC:20250312T203000
DTEND;TZID=UTC:20250312T214500
UID:A8A98658-A883-49FD-B907-7D2AE4A03E70
SUMMARY:Töff
CREATED:20250128T062940Z
DTSTAMP:20250128T062940Z
URL:https://www.nufatierp.se/kalender2/ledig-47
LAST-MODIFIED:20250311T190313Z
SEQUENCE:3674013
X-ACCESS:1
X-HITS:2
X-COLOR:ffff00
X-SHOW-END-TIME:1
END:VEVENT
BEGIN:VEVENT
DTSTART;TZID=UTC:20250319T203000
DTEND;TZID=UTC:20250319T214500
UID:E86E2797-B718-4A9B-843D-7DDE15EBF11D
SUMMARY:Töff
CREATED:20250128T065440Z
DTSTAMP:20250128T065440Z
URL:https://www.nufatierp.se/kalender2/ledig-52
LAST-MODIFIED:20250311T190429Z
SEQUENCE:3672589
X-ACCESS:1
X-HITS:3
X-COLOR:ffff00
X-SHOW-END-TIME:1
END:VEVENT
BEGIN:VEVENT
DTSTART;TZID=UTC:20250326T203000
DTEND;TZID=UTC:20250326T214500
UID:E466DF6A-2987-40C4-8A27-AC2B0C81E0D5
SUMMARY:Töff
CREATED:20250128T071541Z
DTSTAMP:20250128T071541Z
URL:https://www.nufatierp.se/kalender2/ledig-56
LAST-MODIFIED:20250311T190508Z
SEQUENCE:3671367
X-ACCESS:1
X-HITS:3
X-COLOR:ffff00
X-SHOW-END-TIME:1
END:VEVENT
BEGIN:VEVENT
DTSTART;TZID=UTC:20250330T180000
DTEND;TZID=UTC:20250330T200000
UID:BE5E34C0-63CA-4FBC-B91C-821A250EDA9D
SUMMARY:Töff
CREATED:20250304T132222Z
DTSTAMP:20250304T132222Z
URL:https://www.nufatierp.se/kalender2/toeff-48
LAST-MODIFIED:20250304T132222Z
SEQUENCE:0
X-ACCESS:1
X-HITS:3
X-COLOR:ffff00
X-SHOW-END-TIME:1
END:VEVENT
BEGIN:VEVENT
DTSTART;TZID=UTC:20250402T203000
DTEND;TZID=UTC:20250402T214500
UID:228D44C7-A8AD-403B-A4D3-296B22257BCB
SUMMARY:Töff
CREATED:20250128T075859Z
DTSTAMP:20250128T075859Z
URL:https://www.nufatierp.se/kalender2/ledig-60
LAST-MODIFIED:20250311T190658Z
SEQUENCE:3668879
X-ACCESS:1
X-HITS:1
X-COLOR:ffff00
X-SHOW-END-TIME:1
END:VEVENT
BEGIN:VEVENT
DTSTART;TZID=UTC:20250409T203000
DTEND;TZID=UTC:20250409T214500
UID:4F7833D0-AA22-42AB-86D7-06F7B0CCC492
SUMMARY:Töff
CREATED:20250128T092352Z
DTSTAMP:20250128T092352Z
URL:https://www.nufatierp.se/kalender2/ledig-65
LAST-MODIFIED:20250327T070321Z
SEQUENCE:5002769
X-ACCESS:1
X-HITS:2
X-COLOR:ffff00
X-SHOW-END-TIME:1
END:VEVENT
BEGIN:VEVENT
DTSTART;TZID=UTC:20250413T180000
DTEND;TZID=UTC:20250413T200000
UID:F1A66B92-FD8C-4F85-86AD-F819BD282FF2
SUMMARY:Töff
CREATED:20250304T132253Z
DTSTAMP:20250304T132253Z
URL:https://www.nufatierp.se/kalender2/toeff-49
LAST-MODIFIED:20250304T132253Z
SEQUENCE:0
X-ACCESS:1
X-HITS:3
X-COLOR:ffff00
X-SHOW-END-TIME:1
END:VEVENT
BEGIN:VEVENT
DTSTART;TZID=UTC:20250416T203000
DTEND;TZID=UTC:20250416T214500
UID:37B56A64-8C69-4CCC-9FF4-DE1CC98AA869
SUMMARY:Töff
CREATED:20250128T094602Z
DTSTAMP:20250128T094602Z
URL:https://www.nufatierp.se/kalender2/ledig-69
LAST-MODIFIED:20250327T070454Z
SEQUENCE:5001532
X-ACCESS:1
X-HITS:2
X-COLOR:ffff00
X-SHOW-END-TIME:1
END:VEVENT
BEGIN:VEVENT
DTSTART;TZID=UTC:20250421T190000
DTEND;TZID=UTC:20250421T200000
UID:AE6FB4FA-16C5-4AEE-B557-E557CCEEB7AF
SUMMARY:TÖFF P13
CREATED:20250220T195402Z
DTSTAMP:20250220T195402Z
URL:https://www.nufatierp.se/kalender2/toeff-p13
LAST-MODIFIED:20250220T195402Z
SEQUENCE:0
X-ACCESS:1
X-HITS:1
X-COLOR:ffff00
X-SHOW-END-TIME:1
END:VEVENT
BEGIN:VEVENT
DTSTART;TZID=UTC:20250423T203000
DTEND;TZID=UTC:20250423T214500
UID:64C55829-5603-4840-B4D0-EA77E69FA502
SUMMARY:Töff
CREATED:20250128T100011Z
DTSTAMP:20250128T100011Z
URL:https://www.nufatierp.se/kalender2/ledig-72
LAST-MODIFIED:20250327T070553Z
SEQUENCE:5000742
X-ACCESS:1
X-HITS:1
X-COLOR:ffff00
X-SHOW-END-TIME:1
END:VEVENT
BEGIN:VEVENT
DTSTART;TZID=UTC:20260304T203000
DTEND;TZID=UTC:20260304T214500
UID:4B213962-4832-48C5-9C07-11E08624B026
SUMMARY:Töff
CREATED:20260205T114322Z
DTSTAMP:20260205T114322Z
URL:https://www.nufatierp.se/kalender2/toeff-50
LAST-MODIFIED:20260205T114322Z
SEQUENCE:0
X-ACCESS:1
X-HITS:0
X-COLOR:ffff00
X-SHOW-END-TIME:1
END:VEVENT
BEGIN:VEVENT
DTSTART;TZID=UTC:20260311T203000
DTEND;TZID=UTC:20260311T214500
UID:B85C43AF-AC0C-4B3F-A0EE-ACBBFB8B14A1
SUMMARY:TÖFF
CREATED:20260303T055617Z
DTSTAMP:20260303T055617Z
URL:https://www.nufatierp.se/kalender2/toeff-51
LAST-MODIFIED:20260303T055617Z
SEQUENCE:0
X-ACCESS:1
X-HITS:0
X-COLOR:ffff00
X-SHOW-END-TIME:1
END:VEVENT
BEGIN:VEVENT
DTSTART;TZID=UTC:20260318T203000
DTEND;TZID=UTC:20260318T214500
UID:45FE3F62-D37D-44B4-8453-E7C52023CC38
SUMMARY:TÖFF
CREATED:20260310T203545Z
DTSTAMP:20260310T203545Z
URL:https://www.nufatierp.se/kalender2/toeff-52
LAST-MODIFIED:20260310T203545Z
SEQUENCE:0
X-ACCESS:1
X-HITS:0
X-COLOR:ffff00
X-SHOW-END-TIME:1
END:VEVENT
BEGIN:VEVENT
DTSTART;TZID=UTC:20260325T203000
DTEND;TZID=UTC:20260325T214500
UID:B5EAC45E-51FD-4116-B1F9-37F437CDEED3
SUMMARY:TÖFF
CREATED:20260311T202816Z
DTSTAMP:20260311T202816Z
URL:https://www.nufatierp.se/kalender2/toeff-53
LAST-MODIFIED:20260311T202816Z
SEQUENCE:0
X-ACCESS:1
X-HITS:0
X-COLOR:ffff00
X-SHOW-END-TIME:1
END:VEVENT
BEGIN:VEVENT
DTSTART;TZID=UTC:20260401T203000
DTEND;TZID=UTC:20260401T214500
UID:73924D05-A1BB-4D8B-A289-410B8F6E653D
SUMMARY:TÖFF
CREATED:20260311T205607Z
DTSTAMP:20260311T205607Z
URL:https://www.nufatierp.se/kalender2/toeff-54
LAST-MODIFIED:20260311T205607Z
SEQUENCE:0
X-ACCESS:1
X-HITS:2
X-COLOR:ffff00
X-SHOW-END-TIME:1
END:VEVENT
BEGIN:VEVENT
DTSTART;TZID=UTC:20260408T203000
DTEND;TZID=UTC:20260408T214500
UID:5E593013-4A57-4342-A21A-AD8F4F6982DB
SUMMARY:TÖFF
CREATED:20260323T185603Z
DTSTAMP:20260323T185603Z
URL:https://www.nufatierp.se/kalender2/toeff-55
LAST-MODIFIED:20260323T185603Z
SEQUENCE:0
X-ACCESS:1
X-HITS:2
X-COLOR:ffff00
X-SHOW-END-TIME:1
END:VEVENT
BEGIN:VEVENT
DTSTART;TZID=UTC:20260415T203000
DTEND;TZID=UTC:20260415T214500
UID:4863F59C-5E20-42FC-A6B6-246475AA5930
SUMMARY:TÖFF
CREATED:20260406T084057Z
DTSTAMP:20260406T084057Z
URL:https://www.nufatierp.se/kalender2/toeff-56
LAST-MODIFIED:20260406T084057Z
SEQUENCE:0
X-ACCESS:1
X-HITS:2
X-COLOR:ffff00
X-SHOW-END-TIME:1
END:VEVENT
BEGIN:VEVENT
DTSTART;TZID=UTC:20260419T180000
DTEND;TZID=UTC:20260419T200000
UID:3821E9DF-60ED-4A99-9D94-6F98ED1368CB
SUMMARY:Töff P 11/12
CREATED:20260311T170449Z
DTSTAMP:20260311T170449Z
URL:https://www.nufatierp.se/kalender2/toeff-p-11-12
LAST-MODIFIED:20260311T170449Z
SEQUENCE:0
X-ACCESS:1
X-HITS:1
X-COLOR:ffff00
X-SHOW-END-TIME:1
END:VEVENT
BEGIN:VEVENT
DTSTART;TZID=UTC:20260422T203000
DTEND;TZID=UTC:20260422T214500
UID:D2B01E1A-B8CD-4689-B7B9-22388D7268C8
SUMMARY:Töff
CREATED:20260406T085821Z
DTSTAMP:20260406T085821Z
URL:https://www.nufatierp.se/kalender2/toeff-57
LAST-MODIFIED:20260406T085821Z
SEQUENCE:0
X-ACCESS:1
X-HITS:2
X-COLOR:ffff00
X-SHOW-END-TIME:1
END:VEVENT
BEGIN:VEVENT
DTSTART;TZID=UTC:20260429T203000
DTEND;TZID=UTC:20260429T214500
UID:6D4FA6FE-2C9E-4A46-9AF7-DD9D2B1B3ADA
SUMMARY:TÖFF
CREATED:20260406T091544Z
DTSTAMP:20260406T091544Z
URL:https://www.nufatierp.se/kalender2/toeff-58
LAST-MODIFIED:20260406T091544Z
SEQUENCE:0
X-ACCESS:1
X-HITS:2
X-COLOR:ffff00
X-SHOW-END-TIME:1
END:VEVENT
END:VCALENDAR