BEGIN:VCALENDAR
VERSION:2.0
PRODID:DPCALENDAR
CALSCALE:GREGORIAN
X-WR-TIMEZONE:UTC
BEGIN:VEVENT
DTSTART;TZID=UTC:20230304T090000
DTEND;TZID=UTC:20230304T120000
UID:F48ACCEF-53AA-4772-B413-9027914F4902
SUMMARY:NUFA
CREATED:20230216T084113Z
DTSTAMP:20230216T084113Z
URL:https://www.nufatierp.se/kalender2/tierps-if-9
LAST-MODIFIED:20230216T084306Z
SEQUENCE:113
X-ACCESS:1
X-HITS:7
X-COLOR:a30aab
X-SHOW-END-TIME:1
END:VEVENT
BEGIN:VEVENT
DTSTART;TZID=UTC:20230409T103000
DTEND;TZID=UTC:20230409T120000
UID:D3EE6B23-A222-4DBC-B22C-9E539EEDEA80
SUMMARY:SGOIF
CREATED:20230308T204850Z
DTSTAMP:20230308T204850Z
URL:https://www.nufatierp.se/kalender2/sgoif
X-ACCESS:1
X-HITS:4
X-COLOR:a30aab
X-SHOW-END-TIME:1
END:VEVENT
BEGIN:VEVENT
DTSTART;TZID=UTC:20230416T180000
DTEND;TZID=UTC:20230416T193000
UID:772BDCE4-766B-466F-ABA9-4CE83DA1BDC6
SUMMARY:SGOIF
CREATED:20230313T202141Z
DTSTAMP:20230313T202141Z
URL:https://www.nufatierp.se/kalender2/sgoif-3
X-ACCESS:1
X-HITS:8
X-COLOR:a30aab
X-SHOW-END-TIME:1
END:VEVENT
BEGIN:VEVENT
DTSTART;TZID=UTC:20230423T103000
DTEND;TZID=UTC:20230423T120000
UID:88C4CB5D-EC68-45B7-A56C-64455DB36D8F
SUMMARY:SGOIF
CREATED:20230412T123003Z
DTSTAMP:20230412T123003Z
URL:https://www.nufatierp.se/kalender2/sgoif-7
X-ACCESS:1
X-HITS:5
X-COLOR:a30aab
X-SHOW-END-TIME:1
END:VEVENT
BEGIN:VEVENT
DTSTART;TZID=UTC:20231026T190000
DTEND;TZID=UTC:20231026T203000
UID:DD240A72-88C2-4B53-8181-989520513ED7
SUMMARY:Östervåla
CREATED:20231023T092500Z
DTSTAMP:20231023T092500Z
URL:https://www.nufatierp.se/kalender2/oestervala
X-ACCESS:1
X-HITS:4
X-COLOR:a30aab
X-SHOW-END-TIME:1
END:VEVENT
BEGIN:VEVENT
DTSTART;TZID=UTC:20240310T140000
DTEND;TZID=UTC:20240310T160000
UID:EBF0FBF7-1562-4BA1-B648-C376D974CCE4
SUMMARY:UFF
CREATED:20240207T061935Z
DTSTAMP:20240207T061935Z
URL:https://www.nufatierp.se/kalender2/uff
LAST-MODIFIED:20240207T145334Z
SEQUENCE:30839
X-ACCESS:1
X-HITS:4
X-COLOR:a30aab
X-SHOW-END-TIME:1
END:VEVENT
BEGIN:VEVENT
DTSTART;TZID=UTC:20240324T140000
DTEND;TZID=UTC:20240324T160000
UID:3FE61EAB-D4D4-4F36-A1A1-B14B096732EF
SUMMARY:ÖIF
CREATED:20240208T175816Z
DTSTAMP:20240208T175816Z
URL:https://www.nufatierp.se/kalender2/oeif
X-ACCESS:1
X-HITS:5
X-COLOR:a30aab
X-SHOW-END-TIME:1
END:VEVENT
BEGIN:VEVENT
DTSTART;TZID=UTC:20240407T103000
DTEND;TZID=UTC:20240407T120000
UID:E1B435E1-26C6-4F29-8C12-33A8257AA80D
SUMMARY:SGOIF
CREATED:20240226T203410Z
DTSTAMP:20240226T203410Z
URL:https://www.nufatierp.se/kalender2/sgoif-10
X-ACCESS:1
X-HITS:4
X-COLOR:a30aab
X-SHOW-END-TIME:1
END:VEVENT
BEGIN:VEVENT
DTSTART;TZID=UTC:20240407T103000
DTEND;TZID=UTC:20240407T120000
UID:390FAC97-BA98-4D77-9778-7A9AA2C6542B
SUMMARY:Sgoif
CREATED:20240226T203815Z
DTSTAMP:20240226T203815Z
URL:https://www.nufatierp.se/kalender2/ledig-31
LAST-MODIFIED:20240227T084405Z
SEQUENCE:43550
X-ACCESS:1
X-HITS:4
X-COLOR:a30aab
X-SHOW-END-TIME:1
END:VEVENT
BEGIN:VEVENT
DTSTART;TZID=UTC:20240411T203000
DTEND;TZID=UTC:20240411T214500
UID:F1FC5770-3C80-478D-AF43-24DEFD1EABC9
SUMMARY:ÖIF
CREATED:20240329T152529Z
DTSTAMP:20240329T152529Z
URL:https://www.nufatierp.se/kalender2/oeif-3
LAST-MODIFIED:20240329T152608Z
SEQUENCE:39
X-ACCESS:1
X-HITS:4
X-COLOR:a30aab
X-SHOW-END-TIME:1
END:VEVENT
BEGIN:VEVENT
DTSTART;TZID=UTC:20240414T180000
DTEND;TZID=UTC:20240414T200000
UID:70F0833F-799E-4C2E-8DB4-AD99679C8C9F
SUMMARY:KGOIF
CREATED:20240326T103945Z
DTSTAMP:20240326T103945Z
URL:https://www.nufatierp.se/kalender2/kgoif
X-ACCESS:1
X-HITS:4
X-COLOR:a30aab
X-SHOW-END-TIME:1
END:VEVENT
BEGIN:VEVENT
DTSTART;TZID=UTC:20240421T093000
DTEND;TZID=UTC:20240421T110000
UID:CA6D5122-49F6-4CCE-84F5-25D1921F2EBE
SUMMARY:SGOIF
CREATED:20240226T203018Z
DTSTAMP:20240226T203018Z
URL:https://www.nufatierp.se/kalender2/sgoif-8
X-ACCESS:1
X-HITS:4
X-COLOR:a30aab
X-SHOW-END-TIME:1
END:VEVENT
BEGIN:VEVENT
DTSTART;TZID=UTC:20240428T140000
DTEND;TZID=UTC:20240428T153000
UID:22BD3C7F-C6E1-45E3-9F77-1C548F4B0BA0
SUMMARY:SGOIF
CREATED:20240226T203202Z
DTSTAMP:20240226T203202Z
URL:https://www.nufatierp.se/kalender2/sgoif-9
X-ACCESS:1
X-HITS:5
X-COLOR:a30aab
X-SHOW-END-TIME:1
END:VEVENT
BEGIN:VEVENT
DTSTART;TZID=UTC:20240501T120000
DTEND;TZID=UTC:20240501T140000
UID:E8A07762-627D-4A89-827B-1AE650EB45F7
SUMMARY:ÖIF
CREATED:20240422T183039Z
DTSTAMP:20240422T183039Z
URL:https://www.nufatierp.se/kalender2/oeif-5
X-ACCESS:1
X-HITS:4
X-COLOR:a30aab
X-SHOW-END-TIME:1
END:VEVENT
BEGIN:VEVENT
DTSTART;TZID=UTC:20241020T163000
DTEND;TZID=UTC:20241020T173000
UID:03E47E38-7CCF-48A6-BD9D-65A78098F8D9
SUMMARY:AZOS
CREATED:20241020T190202Z
DTSTAMP:20241020T190202Z
URL:https://www.nufatierp.se/kalender2/azos
LAST-MODIFIED:20241020T190202Z
SEQUENCE:0
X-ACCESS:1
X-HITS:1
X-COLOR:a30aab
X-SHOW-END-TIME:1
END:VEVENT
BEGIN:VEVENT
DTSTART;TZID=UTC:20250302T103000
DTEND;TZID=UTC:20250302T120000
UID:47BAE3B3-DB1D-41F5-BFE1-87B393C1EC5C
SUMMARY:UFF
CREATED:20250107T185339Z
DTSTAMP:20250107T185339Z
URL:https://www.nufatierp.se/kalender2/uff-4
LAST-MODIFIED:20250107T185339Z
SEQUENCE:0
X-ACCESS:1
X-HITS:1
X-COLOR:a30aab
X-SHOW-END-TIME:1
END:VEVENT
BEGIN:VEVENT
DTSTART;TZID=UTC:20250302T130000
DTEND;TZID=UTC:20250302T143000
UID:AFA4D8D1-3BEE-4EB0-BC17-D29195F5483D
SUMMARY:UFF
CREATED:20250106T174919Z
DTSTAMP:20250106T174919Z
URL:https://www.nufatierp.se/kalender2/uff-2
LAST-MODIFIED:20250107T185419Z
SEQUENCE:90300
X-ACCESS:1
X-HITS:1
X-COLOR:a30aab
X-SHOW-END-TIME:1
END:VEVENT
BEGIN:VEVENT
DTSTART;TZID=UTC:20250330T140000
DTEND;TZID=UTC:20250330T160000
UID:0EC0C44A-019C-495A-A0BB-56CE2912F549
SUMMARY:KGOIF
CREATED:20250325T192731Z
DTSTAMP:20250325T192731Z
URL:https://www.nufatierp.se/kalender2/kgoif-2
LAST-MODIFIED:20250325T192731Z
SEQUENCE:0
X-ACCESS:1
X-HITS:0
X-COLOR:a30aab
X-SHOW-END-TIME:1
END:VEVENT
BEGIN:VEVENT
DTSTART;TZID=UTC:20250406T100000
DTEND;TZID=UTC:20250406T113000
UID:83F415A0-5314-4B2E-B3DA-0794D406653D
SUMMARY:SGOIF
CREATED:20250209T180548Z
DTSTAMP:20250209T180548Z
URL:https://www.nufatierp.se/kalender2/sgoif-11
LAST-MODIFIED:20250209T180548Z
SEQUENCE:0
X-ACCESS:1
X-HITS:1
X-COLOR:a30aab
X-SHOW-END-TIME:1
END:VEVENT
BEGIN:VEVENT
DTSTART;TZID=UTC:20250413T160000
DTEND;TZID=UTC:20250413T173000
UID:6E2E14A8-39E2-4B5B-813F-636041BEC44B
SUMMARY:SGOIF
CREATED:20250209T180625Z
DTSTAMP:20250209T180625Z
URL:https://www.nufatierp.se/kalender2/sgoif-12
LAST-MODIFIED:20250209T180625Z
SEQUENCE:0
X-ACCESS:1
X-HITS:1
X-COLOR:a30aab
X-SHOW-END-TIME:1
END:VEVENT
BEGIN:VEVENT
DTSTART;TZID=UTC:20250427T120000
DTEND;TZID=UTC:20250427T133000
UID:BE1028DD-9AA5-4E47-87EC-959287A02627
SUMMARY:SGOIF
CREATED:20250209T180658Z
DTSTAMP:20250209T180658Z
URL:https://www.nufatierp.se/kalender2/sgoif-13
LAST-MODIFIED:20250209T180658Z
SEQUENCE:0
X-ACCESS:1
X-HITS:1
X-COLOR:a30aab
X-SHOW-END-TIME:1
END:VEVENT
BEGIN:VEVENT
DTSTART;TZID=UTC:20250925T070000
DTEND;TZID=UTC:20250925T150000
UID:33245D92-01BF-4A37-8ACA-1CE2B90F9C7A
SUMMARY:RFSISU
CREATED:20250627T200210Z
DTSTAMP:20250627T200210Z
URL:https://www.nufatierp.se/kalender2/rfsisu
LAST-MODIFIED:20250627T200210Z
SEQUENCE:0
X-ACCESS:1
X-HITS:0
X-COLOR:a30aab
X-SHOW-END-TIME:1
END:VEVENT
BEGIN:VEVENT
DTSTART;TZID=UTC:20260322T140000
DTEND;TZID=UTC:20260322T153000
UID:6D412E26-D0CB-409F-93F9-4AC632B03750
SUMMARY:SGOIF
CREATED:20260316T193301Z
DTSTAMP:20260316T193301Z
URL:https://www.nufatierp.se/kalender2/sgoif-15
LAST-MODIFIED:20260316T193301Z
SEQUENCE:0
X-ACCESS:1
X-HITS:0
X-COLOR:a30aab
X-SHOW-END-TIME:1
END:VEVENT
BEGIN:VEVENT
DTSTART;TZID=UTC:20260329T120000
DTEND;TZID=UTC:20260329T133000
UID:BB8D1C1E-3B04-49B7-93B7-B1276EA2F2D3
SUMMARY:SGOIF
CREATED:20260316T193343Z
DTSTAMP:20260316T193343Z
URL:https://www.nufatierp.se/kalender2/sgoif-16
LAST-MODIFIED:20260316T193343Z
SEQUENCE:0
X-ACCESS:1
X-HITS:0
X-COLOR:a30aab
X-SHOW-END-TIME:1
END:VEVENT
BEGIN:VEVENT
DTSTART;TZID=UTC:20260411T140000
DTEND;TZID=UTC:20260411T153000
UID:8940ED6E-8F7F-424C-89F0-5211E8A43249
SUMMARY:SGOIF
CREATED:20260316T193418Z
DTSTAMP:20260316T193418Z
URL:https://www.nufatierp.se/kalender2/sgoif-17
LAST-MODIFIED:20260316T193418Z
SEQUENCE:0
X-ACCESS:1
X-HITS:0
X-COLOR:a30aab
X-SHOW-END-TIME:1
END:VEVENT
BEGIN:VEVENT
DTSTART;TZID=UTC:20260419T120000
DTEND;TZID=UTC:20260419T133000
UID:A91130AA-172B-4B12-A572-821E454EC61A
SUMMARY:SGOIF
CREATED:20260316T193450Z
DTSTAMP:20260316T193450Z
URL:https://www.nufatierp.se/kalender2/sgoif-18
LAST-MODIFIED:20260316T193450Z
SEQUENCE:0
X-ACCESS:1
X-HITS:0
X-COLOR:a30aab
X-SHOW-END-TIME:1
END:VEVENT
END:VCALENDAR